BEGIN:VCALENDAR
VERSION:2.0
PRODID:-//eventon.com NONSGML v1.0//EN
CALSCALE:GREGORIAN
METHOD:PUBLISH
BEGIN:VEVENT
UID:69ec049c74b0f
DTSTAMP:20260425T000236Z
DTSTART:20260207T210000Z
DTEND:20260518T050000Z
LOCATION:Le Musée de la Photographie Centre d´art contemporain de la Fédération Wallonie-Bruxelles 11 Avenue Paul Pastur\,  6032 Mont-sur-Marchienne\,  Belgique
SUMMARY:Archives de la Police Judiciaire. De beaux assassinats
DESCRIPTION:L’exposition De beaux assassinats plonge dans l’univers é
 nigmatique des reconstitutions de scènes de crime\,  à travers des phot
 ographies issues des archives de la Police judiciaire de Liège déposé
 es aux Archives de l’État. Ces clichés\,  initialement réservés a
 ̀ l’enquête\,  capturent des instants suspendus où suspects\,  tém
 oins et enquêteurs rejouent les gestes[..]\nhttps://www.9lives-magazine.c
 om/events/archives-de-la-police-judiciaire-de-beaux-assassinats/
URL:https://www.9lives-magazine.com/events/archives-de-la-police-judiciaire-de-beaux-assassinats/
END:VEVENT
END:VCALENDAR