BEGIN:VCALENDAR
VERSION:2.0
PRODID:-//eventon.com NONSGML v1.0//EN
CALSCALE:GREGORIAN
METHOD:PUBLISH
BEGIN:VEVENT
UID:69ec1ae9e0cc4
DTSTAMP:20260425T013745Z
DTSTART:20260207T210000Z
DTEND:20260518T050000Z
LOCATION:Le Musée de la Photographie Centre d´art contemporain de la Fédération Wallonie-Bruxelles 11 Avenue Paul Pastur\,  6032 Mont-sur-Marchienne\,  Belgique
SUMMARY:Aline Suter et Céline Carridroit
DESCRIPTION:Visuel : Extrait de Les Oiseaux du paradis © Aline Suter et Ce
 ́line Carridroit À travers ses photographies et ses films personnels\,  
 une femme nous raconte sa vie avec le VIH. Le film nous invite à un voyag
 e initiatique entre maternité et résurrection. La caméra se concentre
  sur des mains[..]\nhttps://www.9lives-magazine.com/events/aline-suter-et-c
 eline-carridroit-les-oiseaux-du-paradis/
URL:https://www.9lives-magazine.com/events/aline-suter-et-celine-carridroit-les-oiseaux-du-paradis/
END:VEVENT
END:VCALENDAR