BEGIN:VCALENDAR
VERSION:2.0
PRODID:-//eventon.com NONSGML v1.0//EN
CALSCALE:GREGORIAN
METHOD:PUBLISH
BEGIN:VEVENT
UID:69eb5eb8b2c41
DTSTAMP:20260424T121448Z
DTSTART:20260207T210000Z
DTEND:20260518T050000Z
LOCATION:Le Musée de la Photographie Centre d´art contemporain de la Fédération Wallonie-Bruxelles 11 Avenue Paul Pastur\,  6032 Mont-sur-Marchienne\,  Belgique
SUMMARY:Baptiste Van Leendert
DESCRIPTION:Photo : De la série Fard © Baptiste Van Leendert Pour cette 
 nouvelle édition de la Galerie du Soir\,  notre choix s&rsquo;est porté
  sur Baptiste Van Leendert. Relecture personnelle de mon village natal\,  j
 e transforme dans ce projet le réel en un espace magnifié et onirique. 
 À travers la lumière\, [..]\nhttps://www.9lives-magazine.com/events/bap
 tiste-van-leendert-fard/
URL:https://www.9lives-magazine.com/events/baptiste-van-leendert-fard/
END:VEVENT
END:VCALENDAR