BEGIN:VCALENDAR
VERSION:2.0
PRODID:-//eventon.com NONSGML v1.0//EN
CALSCALE:GREGORIAN
METHOD:PUBLISH
BEGIN:VEVENT
UID:69ec34b5dd43d
DTSTAMP:20260425T032749Z
DTSTART:20260408T210000Z
DTEND:20270104T050000Z
LOCATION:Musée de l&#039;Homme 17 Place du Trocadéro et du 11 Novembre\,  75116 Paris
SUMMARY:Nikos Aliagas
DESCRIPTION:Photo : Pas vus\,  pas pris © Nikos Aliagas Le Musée de l’H
 omme propose\,  à partir du 8 avril 2026\,  une exposition consacrée aux 
 grands âges de la vie humaine. Mêlant art et science\,  elle est le fruit
  de la rencontre entre le photographe Nikos Aliagas\,  qui explore le sujet
 [..]\nhttps://www.9lives-magazine.com/events/nikos-aliagas-grands-ages/
URL:https://www.9lives-magazine.com/events/nikos-aliagas-grands-ages/
END:VEVENT
END:VCALENDAR