BEGIN:VCALENDAR
VERSION:2.0
PRODID:-//eventon.com NONSGML v1.0//EN
CALSCALE:GREGORIAN
METHOD:PUBLISH
BEGIN:VEVENT
UID:69ebc6aa1d6b7
DTSTAMP:20260424T193818Z
DTSTART:20260123T000000Z
DTEND:20260518T050000Z
LOCATION:Fondation A Stichting Av. Van Volxem\,  304 bte 1 1190 – Bruxelles
SUMMARY:Tarrah Krajnak
DESCRIPTION:Photo : © Tarrah Krajnak\,  Self-Portrait as Weston / as B
 ertha Wardell\,  Series Master Rituals II: Weston’s Nudes\,  1927/2020.
  Courtesy Galerie Zander\,  Cologne/Paris RePose ExPose CounterPose propose
  une rétrospective de l’artiste Tarrah Krajnak\,  née à Lima en 1979 e
 t adoptée aux États-Unis\,  dont le travail explore l’identité\,  la m
 émoire et l’histoire de l’art[..]\nhttps://www.9lives-magazine.com/eve
 nts/tarrah-krajnak-repose-expose-counterpose/
URL:https://www.9lives-magazine.com/events/tarrah-krajnak-repose-expose-counterpose/
END:VEVENT
END:VCALENDAR