BEGIN:VCALENDAR
VERSION:2.0
PRODID:-//eventon.com NONSGML v1.0//EN
CALSCALE:GREGORIAN
METHOD:PUBLISH
BEGIN:VEVENT
UID:69ebdbf2cc558
DTSTAMP:20260424T210906Z
DTSTART:20260206T140000Z
DTEND:20260425T180000Z
LOCATION:Galerie – Librairie FOCALE Place du Château 4 – 1260 Nyon
SUMMARY:Aimée Hoving
DESCRIPTION:Patience et émerveillement se confondent au coeur de la pratiq
 ue artistique d’Aimée Hoving. Les deux séries exposées ici\,  « Inflo
 rescence » et « Family Affair »\,  se font l’écho d’un jardin inté
 rieur\,  où la mutation personnelle advient\,  au diapason de celle de la 
 nature\,  et où la lumière parvient toujours[..]\nhttps://www.9lives-maga
 zine.com/events/aimee-hoving-binding-roots/
URL:https://www.9lives-magazine.com/events/aimee-hoving-binding-roots/
END:VEVENT
END:VCALENDAR