BEGIN:VCALENDAR
VERSION:2.0
PRODID:-//eventon.com NONSGML v1.0//EN
CALSCALE:GREGORIAN
METHOD:PUBLISH
BEGIN:VEVENT
UID:69eb75dc804b2
DTSTAMP:20260424T135332Z
DTSTART:20260417T140000Z
DTEND:20260516T180000Z
LOCATION:Galerie Poirel 3 Rue Victor Poirel\,  54000 Nancy
SUMMARY:2e édition de la Biennale Internationale de la Photographie Sportive de Nancy
DESCRIPTION:Photo : © Edouard Salmon Un projet singulier qui réunit le sp
 ort\,  la culture\,  l’éducation et la création artistique. Nancy Terre
  de Sport\,  de culture et d’art. Starting-Blocks NCY 2026 Biennale Inter
 national de la Photographie de Nancy Capitale emblématique de l’Art nouv
 eau\,  foyer de création culturelle et terre d’élection du[..]\nhttps:/
 /www.9lives-magazine.com/events/2e-edition-de-la-biennale-internationale-de
 -la-photographie-sportive-de-nancy/
URL:https://www.9lives-magazine.com/events/2e-edition-de-la-biennale-internationale-de-la-photographie-sportive-de-nancy/
END:VEVENT
END:VCALENDAR