BEGIN:VCALENDAR
VERSION:2.0
PRODID:-//eventon.com NONSGML v1.0//EN
CALSCALE:GREGORIAN
METHOD:PUBLISH
BEGIN:VEVENT
UID:69ec18b0ec480
DTSTAMP:20260425T012816Z
DTSTART:20260321T220000Z
DTEND:20260720T090000Z
LOCATION:Grilles du Jardin du Luxembourg rue Médicis 75006 Paris
SUMMARY:Thibault Gerbaldi
DESCRIPTION:Photo : L’Homme\,  la Terre et la Mer © Thibault Gerbaldi Le
  photographe Thibault Gerbaldi exposera du 21 mars au 19 juillet 2026\,  80
  photographies grand format (120 x 180 cm) sur les grilles du Jardin du Lux
 embourg\,  à Paris. « Mon souhait\,  à travers ce voyage\,  est d&rsquo;
 inviter à[..]\nhttps://www.9lives-magazine.com/events/thibault-gerbaldi-fr
 agilites-resiliences/
URL:https://www.9lives-magazine.com/events/thibault-gerbaldi-fragilites-resiliences/
END:VEVENT
END:VCALENDAR