BEGIN:VCALENDAR
VERSION:2.0
PRODID:-//eventon.com NONSGML v1.0//EN
CALSCALE:GREGORIAN
METHOD:PUBLISH
BEGIN:VEVENT
UID:69ecd9be46662
DTSTAMP:20260425T151158Z
DTSTART:20260213T010000Z
DTEND:20260322T060000Z
LOCATION:in camera galerie 21\,  rue Las Cases 75007 Paris
SUMMARY:Sissi Farassat
DESCRIPTION:Photo : © Sissi Farassat\,  courtesy in camera galerie À l’
 occasion de sa troisième exposition personnelle à la galerie\,  in camera
  met à l&rsquo;honneur Revelation\,  dernière série de l&rsquo;artiste i
 rano-autrichienne Sissi Farassat\,  dans laquelle elle libère des fragment
 s d’images choisies. Au sein de l&rsquo;exposition\,  ces tirages partiel
 lement dissimulés\,  composent un[..]\nhttps://www.9lives-magazine.com/eve
 nts/sissi-farassat-me-and-the-others/
URL:https://www.9lives-magazine.com/events/sissi-farassat-me-and-the-others/
END:VEVENT
END:VCALENDAR