BEGIN:VCALENDAR
VERSION:2.0
PRODID:-//eventon.com NONSGML v1.0//EN
CALSCALE:GREGORIAN
METHOD:PUBLISH
BEGIN:VEVENT
UID:69ea81198cc18
DTSTAMP:20260423T202913Z
DTSTART:20260119T200000Z
DTEND:20260328T043000Z
LOCATION:Fondation Convergences Maison de lâ€™enfance et de lâ€™adolescence Boulevard de la Cluse 26 1205 GenÃ¨ve
SUMMARY:Lia Darjes
DESCRIPTION:Lia Darjes\,  Plate X\,  2023 Le Centre de la photographie GenÃ
 ¨ve est heureux de proposer Ã  nouveau en 2026 un programme d&rsquo;exposit
 ions pour la Maison de l&rsquo;enfance et de l&rsquo;adolescence des HUG\, 
  en collaboration avec la Fondation Convergences. La premiÃ¨re exposition e
 st consacrÃ©e Ã  la photographe allemande Lia Darjes. Pendant[..]\nhttps://
 www.9lives-magazine.com/events/lia-darjes-plates-x-xxxi/
URL:https://www.9lives-magazine.com/events/lia-darjes-plates-x-xxxi/
END:VEVENT
END:VCALENDAR