BEGIN:VCALENDAR
VERSION:2.0
PRODID:-//eventon.com NONSGML v1.0//EN
CALSCALE:GREGORIAN
METHOD:PUBLISH
BEGIN:VEVENT
UID:69ea05a54c209
DTSTAMP:20260423T114229Z
DTSTART:20260704T133000Z
DTEND:20261004T183000Z
LOCATION:Villa Tamaris Avenue de la Grande Maison\,  83500 La Seyne-sur-Mer
SUMMARY:Qu'est-ce qu'elle a ma gueule ?
DESCRIPTION:Une exposition ludique sur le portrait à travers 200 ans d&rsq
 uo;histoire de la photographie issue du fonds de la Médiathèque du Patrim
 oine et de la Photographie.\nhttps://www.9lives-magazine.com/events/quest-c
 e-quelle-a-ma-gueule/
URL:https://www.9lives-magazine.com/events/quest-ce-quelle-a-ma-gueule/
END:VEVENT
END:VCALENDAR