BEGIN:VCALENDAR
VERSION:2.0
PRODID:-//eventon.com NONSGML v1.0//EN
CALSCALE:GREGORIAN
METHOD:PUBLISH
BEGIN:VEVENT
UID:69ebdbfa584cf
DTSTAMP:20260424T210914Z
DTSTART:20260704T230000Z
DTEND:20270104T050000Z
LOCATION:Musée Granet Place Saint-Jean de Malte\,  13100 Aix-en-Provence
SUMMARY:Paul McCartney Photographe 1963-64
DESCRIPTION:Photo : Paul McCartney\,  John Lennon\,  Paris\,  janvier 1964 
 © 1964 Paul McCartney sous licence exclusive de MPL Archive LLP Le musée 
 Granet d’Aix-en-Provence présente du 4 juillet 2026 au 3 janvier 2027 un
 e exposition exceptionnelle des photographies de Paul McCartney\,  célèbr
 e chanteur des Beatles\,  intitulée « Paul McCartney Photographe 1963-64
 :[..]\nhttps://www.9lives-magazine.com/events/paul-mccartney-photographe-19
 63-64/
URL:https://www.9lives-magazine.com/events/paul-mccartney-photographe-1963-64/
END:VEVENT
END:VCALENDAR