BEGIN:VCALENDAR
VERSION:2.0
PRODID:-//eventon.com NONSGML v1.0//EN
CALSCALE:GREGORIAN
METHOD:PUBLISH
BEGIN:VEVENT
UID:69ea8133a352c
DTSTAMP:20260423T202939Z
DTSTART:20260219T220000Z
DTEND:20260510T050000Z
LOCATION:Centre de la Photographie - Genève 28\,  rue des Bains Genève 1205 Switzerland
SUMMARY:Zoe A. Keller & Batia Suter
DESCRIPTION:Uqbaroxy est un projet collaboratif de Zoe A. Keller\,  cherche
 use en cultures visuelles\,  et Batia Suter\,  artiste visuelle. Il prend p
 our point de départ les archives Eranos\,  qui comprennent environ 3 000
  images archétypales conservées à l’institut Warburg de Londres. Ces i
 mages ont été rassemblées entre les années 1920 et 1950[..]\nhttps://ww
 w.9lives-magazine.com/events/zoe-a-keller-batia-suter-uqbaroxy/
URL:https://www.9lives-magazine.com/events/zoe-a-keller-batia-suter-uqbaroxy/
END:VEVENT
END:VCALENDAR