BEGIN:VCALENDAR
VERSION:2.0
PRODID:-//eventon.com NONSGML v1.0//EN
CALSCALE:GREGORIAN
METHOD:PUBLISH
BEGIN:VEVENT
UID:69ea813c96321
DTSTAMP:20260423T202948Z
DTSTART:20260220T220000Z
DTEND:20260323T105900Z
LOCATION:Centre de la Photographie - GenÃ¨ve 28\,  rue des Bains GenÃ¨ve 1205 Switzerland
SUMMARY:Mentorat 2026 : Appel Ã  projets
DESCRIPTION:Photo : Les mentors : Mahalia Taje Giotto\,  Hannah Darabi\,  S
 abine Hess\,  Yann Mingard Depuis 2023\,  le Centre de la photographie GenÃ
 ¨ve propose programme annuel de mentorat pour artistes et photographes visa
 nt Ã  les accompagner pour le dÃ©veloppement dâ€™un projet. Ce format repos
 e sur un mentorat individualisÃ©: chaque artiste bÃ©nÃ©ficie[..]\nhttps://w
 ww.9lives-magazine.com/events/mentorat-2026-appel-a-projets/
URL:https://www.9lives-magazine.com/events/mentorat-2026-appel-a-projets/
END:VEVENT
END:VCALENDAR