BEGIN:VCALENDAR
VERSION:2.0
PRODID:-//eventon.com NONSGML v1.0//EN
CALSCALE:GREGORIAN
METHOD:PUBLISH
BEGIN:VEVENT
UID:69ec18a7eb869
DTSTAMP:20260425T012807Z
DTSTART:20260222T010000Z
DTEND:20260531T053000Z
LOCATION:Hôtel de Ville de Paris 5 rue de Lobau 75004 Paris
SUMMARY:Hommage à Sebastião Salgado
DESCRIPTION:Photo : Kuwait\,  1991 © Sebastião Salgado Paris rend hommage
  au photographe brésilien reconnu internationalement Sebastião Salgado\, 
  disparu le 23 mai dernier à l’âge de 81 ans. Cette exposition hommage 
 est présentée du 21 février au 30 mai 2026 à la Salle Saint-Jean\,  au 
 sein de l’Hôtel de Ville de[..]\nhttps://www.9lives-magazine.com/events/
 hommage-a-sebastiao-salgado/
URL:https://www.9lives-magazine.com/events/hommage-a-sebastiao-salgado/
END:VEVENT
END:VCALENDAR