BEGIN:VCALENDAR
VERSION:2.0
PRODID:-//eventon.com NONSGML v1.0//EN
CALSCALE:GREGORIAN
METHOD:PUBLISH
BEGIN:VEVENT
UID:69ebb2e8079f2
DTSTAMP:20260424T181400Z
DTSTART:20260418T220000Z
DTEND:20260517T060000Z
LOCATION:Galerie Regala 12\,  plan de la Cour F-13200 Arles
SUMMARY:Vicky Fischer
DESCRIPTION:Vicky Fischer est née et travaille à Paris. Formée en arts p
 lastiques (Beaux-Arts de Bourges)\,  en arts appliqués (ESAD de Reims) et 
 en artisanat (CAP pâtissier)\,  elle invente et développe des techniques 
 s’appuyant sur des procédés de transfert et de report d’image\,  à l
 ’aide de la presse\,  pour « dessiner[..]\nhttps://www.9lives-magazine.c
 om/events/vicky-fischer-nimbus-et-physalies/
URL:https://www.9lives-magazine.com/events/vicky-fischer-nimbus-et-physalies/
END:VEVENT
END:VCALENDAR