BEGIN:VCALENDAR
VERSION:2.0
PRODID:-//eventon.com NONSGML v1.0//EN
CALSCALE:GREGORIAN
METHOD:PUBLISH
BEGIN:VEVENT
UID:69ec32969efc8
DTSTAMP:20260425T031846Z
DTSTART:20260328T210000Z
DTEND:20260602T060000Z
LOCATION:Galerie Magnum 2\,  impasse Delauney 75011 Paris
SUMMARY:Martin Parr
DESCRIPTION:Photo : GB. England. Bristol. Martin Parr kisses some of his fa
 vourite mugs. From &lsquo;Fashion Magazine&rsquo;. 2005. Présentée dans l
 a toute nouvelle Galerie Magnum à Paris\,  l&rsquo;exposition « Martin P
 arr : In Plain View » retrace une carrière photographique remarquable. U
 ne exposition qui met en lumière l&rsquo;héritage de Parr en tant que[..]
 \nhttps://www.9lives-magazine.com/events/martin-parr-in-plain-view/
URL:https://www.9lives-magazine.com/events/martin-parr-in-plain-view/
END:VEVENT
END:VCALENDAR