BEGIN:VCALENDAR
VERSION:2.0
PRODID:-//eventon.com NONSGML v1.0//EN
CALSCALE:GREGORIAN
METHOD:PUBLISH
BEGIN:VEVENT
UID:69eb5eb0335b6
DTSTAMP:20260424T121440Z
DTSTART:20260320
DTEND:20260321
LOCATION:Fondation Renaud 27\,  bd Antoine de Saint-Exupéry\,  69009 Lyon
SUMMARY:Jacqueline Salmon
DESCRIPTION:Ce printemps\,  la Fondation Renaud et les Amis de la Fondation
  ont le plaisir d’inviter les visiteurs à pénétrer dans l’univers se
 nsible et savant de Jacqueline Salmon\,  figure de la photographie contempo
 raine française. Avec Desseins et autres destins\,  la Fondation poursuit 
 sa tradition des dialogues entre collections historiques et création[..]\n
 https://www.9lives-magazine.com/events/jacqueline-salmon-desseins-et-autres
 -destins/
URL:https://www.9lives-magazine.com/events/jacqueline-salmon-desseins-et-autres-destins/
END:VEVENT
END:VCALENDAR