BEGIN:VCALENDAR
VERSION:2.0
PRODID:-//eventon.com NONSGML v1.0//EN
CALSCALE:GREGORIAN
METHOD:PUBLISH
BEGIN:VEVENT
UID:69eb9e7fdac0a
DTSTAMP:20260424T164655Z
DTSTART:20260328T213000Z
DTEND:20260510T060000Z
LOCATION:Galerie - La chambre claire 3\,  rue Voltaire 29100 Douarnenez
SUMMARY:Sandrine Rousseau
DESCRIPTION:Sandrine Rousseau utilise son appareil comme outil d’explorat
 ion simultanée du monde extérieur et de son univers intérieur. Dans les 
 séries qui composent Passages\,  Sandrine Rousseau nous transporte dans le
 s méandres d’une mémoire générationnelle… une palette dont les coul
 eurs sont issues du souvenir\,  de la reconstruction\,  de la restitution d
 u récit[..]\nhttps://www.9lives-magazine.com/events/sandrine-rousseau-pass
 ages/
URL:https://www.9lives-magazine.com/events/sandrine-rousseau-passages/
END:VEVENT
END:VCALENDAR