BEGIN:VCALENDAR
VERSION:2.0
PRODID:-//eventon.com NONSGML v1.0//EN
CALSCALE:GREGORIAN
METHOD:PUBLISH
BEGIN:VEVENT
UID:69ec32a69ddf1
DTSTAMP:20260425T031902Z
DTSTART:20260704T213000Z
DTEND:20260906T060000Z
LOCATION:Galerie - La chambre claire 3\,  rue Voltaire 29100 Douarnenez
SUMMARY:Israel Ariño
DESCRIPTION:Israel Ariño est né en 1974 à Barcelone. Après ses études 
 de photographie à l’Institut d’Estudis Fotogràfics de Catalunya (IEF
 C)\,  il se forme en gravure et sculpture à la Faculté de Beaux Arts de B
 arcelone. Il est photographe\,  éditeur chez Ediciones Anómalas (Barcelo
 ne) et co-fondateur de Lababuch. Il émane de l’être d’Israel[..]\nhtt
 ps://www.9lives-magazine.com/events/israel-arino/
URL:https://www.9lives-magazine.com/events/israel-arino/
END:VEVENT
END:VCALENDAR