BEGIN:VCALENDAR
VERSION:2.0
PRODID:-//eventon.com NONSGML v1.0//EN
CALSCALE:GREGORIAN
METHOD:PUBLISH
BEGIN:VEVENT
UID:69ebc68b84ff2
DTSTAMP:20260424T193747Z
DTSTART:20260314T100000Z
DTEND:20260424T180000Z
LOCATION:Musée de la Photographie Charles Nègre 1 Place Pierre Gautier 06364 Nice
SUMMARY:Dominique Jaussein
DESCRIPTION:Photo : L’homme qui protège le monde © Dominique Jaussein L
 ’exposition Signature gestuelle est un dialogue exceptionnel fait de gest
 es et de lumières entre le photographe Dominique Jaussein et le danseur Ge
 orge Oliveira\,  soliste des Ballets de Monte-Carlo. Au-delà de la photogr
 aphie traditionnelle de la danse\,  Dominique Jaussein nous entraîne[..]\n
 https://www.9lives-magazine.com/events/dominique-jaussein-signature-gestuel
 le/
URL:https://www.9lives-magazine.com/events/dominique-jaussein-signature-gestuelle/
END:VEVENT
END:VCALENDAR