BEGIN:VCALENDAR
VERSION:2.0
PRODID:-//eventon.com NONSGML v1.0//EN
CALSCALE:GREGORIAN
METHOD:PUBLISH
BEGIN:VEVENT
UID:69ebc66555db2
DTSTAMP:20260424T193709Z
DTSTART:20260314T020000Z
DTEND:20260511T060000Z
LOCATION:Lâ€™Escalier 4 rue de lâ€™Yonne\,  89000 Auxerre
SUMMARY:Patrick Rimond
DESCRIPTION:En 2024\,  Patrick Rimond se rend sur lâ€™Ã®le subtropicale de 
 Yakushima au Japon pour le deuxiÃ¨me volet de son projet Entretiens avec la
  Terre. La sÃ©rie invite Ã  une rÃ©conciliation avec le vivant\,  en replaÃ
 §ant lâ€™Ãªtre humain au cÅ“ur du monde naturel. InspirÃ© par des pratiques
  chamaniques\,  le photographe se[..]\nhttps://www.9lives-magazine.com/even
 ts/patrick-rimond-ode-a-leau-douce/
URL:https://www.9lives-magazine.com/events/patrick-rimond-ode-a-leau-douce/
END:VEVENT
END:VCALENDAR