BEGIN:VCALENDAR
VERSION:2.0
PRODID:-//eventon.com NONSGML v1.0//EN
CALSCALE:GREGORIAN
METHOD:PUBLISH
BEGIN:VEVENT
UID:69eb26713ec13
DTSTAMP:20260424T081441Z
DTSTART:20260304T020000Z
DTEND:20260430T060000Z
LOCATION:MÃ©diathÃ¨que de la Mairie de Saint-Jean Saint-Nicolas 2\,  place de la mairie. Pont du FossÃ©\,  05260 Saint-Jean-Saint-Nicolas
SUMMARY:Denis Lebioda
DESCRIPTION:Une cÃ©lÃ©bration des femmes du territoire\,  maraÃ®chÃ¨res\,  
 Ã©leveuses\,  fromagÃ¨res\,  passionnÃ©es par leur mÃ©tier et profondÃ©ment
  liÃ©es Ã  la terre et aux animaux. Le photographe Denis Lebioda a rÃ©alisÃ
 © des portraits de femmes agricultrices des Hautes-Alpes.\nhttps://www.9liv
 es-magazine.com/events/denis-lebioda-portraits-de-femmes-agricultrices/
URL:https://www.9lives-magazine.com/events/denis-lebioda-portraits-de-femmes-agricultrices/
END:VEVENT
END:VCALENDAR