BEGIN:VCALENDAR
VERSION:2.0
PRODID:-//eventon.com NONSGML v1.0//EN
CALSCALE:GREGORIAN
METHOD:PUBLISH
BEGIN:VEVENT
UID:69ec18e161ab3
DTSTAMP:20260425T012905Z
DTSTART:20260523T100000Z
DTEND:20260731T180000Z
LOCATION:MAC VAL MusÃ©e dâ€™art contemporain du Val-de-Marne Place de la LibÃ©ration 94400 Vitry-sur-Seine
SUMMARY:SMITH
DESCRIPTION:Artiste chercheur\,  SMITH navigue entre la photographie\,  lâ€
 ™installation\,  la performance et lâ€™image animÃ©e. Son travail se constr
 uit en sÃ©ries poreuses\,  dÃ©jouant ainsi toute idÃ©e de chronologie\,  ar
 pentant les genres classiques du portrait et du paysage. Il dÃ©veloppe un Å
 “uvre romantique et mÃ©lancolique en parcourant les espaces de lâ€™entre de
 ux\,  de[..]\nhttps://www.9lives-magazine.com/events/smith-ici-grand-ouvert
 /
URL:https://www.9lives-magazine.com/events/smith-ici-grand-ouvert/
END:VEVENT
END:VCALENDAR