BEGIN:VCALENDAR
VERSION:2.0
PRODID:-//eventon.com NONSGML v1.0//EN
CALSCALE:GREGORIAN
METHOD:PUBLISH
BEGIN:VEVENT
UID:69eb8e5956bc5
DTSTAMP:20260424T153801Z
DTSTART:20260619T230000Z
DTEND:20270101T060000Z
LOCATION:LE BAL 6\,  Impasse de la défense 75018 Paris
SUMMARY:L'Espace entre nous
DESCRIPTION:Photo : © Bruce Davidson À l’occasion du Bicentenaire de la
  naissance de la photographie\,  LE BAL a souhaité explorer le lien parfoi
 s trouble\,  parfois lumineux\,  toujours instable et finalement mystérieu
 x qui attache celui qui prend et celui qui est pris dans l’acte de photog
 raphier. Que révèle l’image de la[..]\nhttps://www.9lives-magazine.com/
 events/lespace-entre-nous/
URL:https://www.9lives-magazine.com/events/lespace-entre-nous/
END:VEVENT
END:VCALENDAR