BEGIN:VCALENDAR
VERSION:2.0
PRODID:-//eventon.com NONSGML v1.0//EN
CALSCALE:GREGORIAN
METHOD:PUBLISH
BEGIN:VEVENT
UID:69eab9ce299a1
DTSTAMP:20260424T003110Z
DTSTART:20260305T210000Z
DTEND:20260511T050000Z
LOCATION:CRI des LumiÃ¨res Place de la deuxiÃ¨me division de cavalerie 54302 Luneville
SUMMARY:Gertrude KÃ¤sebier & Edward Curtis
DESCRIPTION:Photo : Â© Gertrude KÃ¤sebier (dÃ©tail. Voir la photo intÃ©gral
 e) Leâ€‰lienâ€‰entreâ€‰laâ€‰photographieâ€‰etâ€‰lesâ€‰autochtonesâ€‰dâ€™AmÃ
 ©riqueâ€‰estâ€‰complexe\, â€‰oscillant entreâ€‰documentation\, â€‰reprÃ©sen
 tationâ€‰etâ€‰affirmationâ€‰culturelle.â€‰Lesâ€‰photographes duâ€‰dÃ©butâ€‰
 duâ€‰XXeâ€‰siÃ¨cleâ€‰ontâ€‰utilisÃ©â€‰leâ€‰mÃ©diumâ€‰photographiqueâ€‰Ã â€‰
 laâ€‰foisâ€‰pour cÃ©lÃ©brerâ€‰etâ€‰stÃ©rÃ©otyperâ€‰lesâ€‰communautÃ©sâ€‰mai
 sâ€‰Ã©galementâ€‰commeâ€‰unâ€‰outilâ€‰de rÃ©sistanceâ€‰etâ€‰dâ€™affirmation
 â€‰identitaire. Gertrudeâ€‰KÃ¤sebierâ€‰sâ€™estâ€‰particuliÃ¨rement intÃ©res
 sÃ©eâ€‰Ã â€‰laâ€‰reprÃ©sentationâ€‰desâ€‰peuplesâ€‰autochtonesâ€‰etâ€‰sonâ€
 ‰travailâ€‰aâ€‰souvent cherchÃ©â€‰Ã â€‰capturerâ€‰laâ€‰dignitÃ©â€‰etâ€‰laâ€
 ‰profondeurâ€‰deâ€‰leursâ€‰cultures.â€‰[â€¦]â€‰sesâ€‰portraits visaientâ€‰Ã
  â€‰montrerâ€‰laâ€‰beautÃ©â€‰etâ€‰laâ€‰complexitÃ©â€‰desâ€‰individusâ€‰quâ€
 ™elleâ€‰photographiait. Edwardâ€‰Curtisâ€‰aâ€‰consacrÃ©â€‰saâ€‰carriÃ¨reâ€‰
 Ã â€‰documenterâ€‰lesâ€‰diffÃ©rentesâ€‰tribus\,  cherchantâ€‰Ã â€‰prÃ©serve
 râ€‰desâ€‰imagesâ€‰deâ€‰modesâ€‰deâ€‰vieâ€‰quâ€™ilâ€‰percevaitâ€‰commeâ€‰en
  dangerâ€‰dâ€™extinction. Les Å“uvres dâ€™Edward Curtis sont prÃ©sentÃ©es a
 vec lâ€™aimable autorisation du musÃ©e Nouveau Monde â€“ La Rochelle\nhttps
 ://www.9lives-magazine.com/events/gertrude-kasebier-edward-curtis-autochton
 es-damerique/
URL:https://www.9lives-magazine.com/events/gertrude-kasebier-edward-curtis-autochtones-damerique/
END:VEVENT
END:VCALENDAR