BEGIN:VCALENDAR
VERSION:2.0
PRODID:-//eventon.com NONSGML v1.0//EN
CALSCALE:GREGORIAN
METHOD:PUBLISH
BEGIN:VEVENT
UID:69eb9f0a506f6
DTSTAMP:20260424T164914Z
DTSTART:20260314T010000Z
DTEND:20260514T060000Z
LOCATION:Les Douches la Galerie 54\,  rue Chapon 75003 Paris
SUMMARY:Jeux de mots
DESCRIPTION:Photo : © Ernst Haas\,  New York\,  1955 Après Dans ma cuisin
 e\,  exposition collective consacrée l’an dernier à l’espace domestiq
 ue et à l’ordonnancement modeste des objets du quotidien\,  à travers l
 a vision des photographes du XXe siècle\,  cette nouvelle proposition des 
 Douches la Galerie prolonge un même geste : explorer[..]\nhttps://www.9liv
 es-magazine.com/events/jeux-de-mots/
URL:https://www.9lives-magazine.com/events/jeux-de-mots/
END:VEVENT
END:VCALENDAR