BEGIN:VCALENDAR
VERSION:2.0
PRODID:-//eventon.com NONSGML v1.0//EN
CALSCALE:GREGORIAN
METHOD:PUBLISH
BEGIN:VEVENT
UID:69ebb2dda7863
DTSTAMP:20260424T181349Z
DTSTART:20260703T010000Z
DTEND:20261129T060000Z
LOCATION:Lieu de MÃ©moire 23 route du Mazet 43400 Le Chambon-sur-Lignon
SUMMARY:Le marchÃ© de lâ€™art sous lâ€™Occupation
DESCRIPTION:Photo : Vente aux enchÃ¨res dirigÃ©e par MaÃ®tre Ader Ã  la gal
 erie Charpentier. Au premier plan\,  RenÃ© Bouffet\,  prÃ©fet de la Seine (
 2e Ã  partir de la gauche) â€“ Paris\,  juin 1944 @ LAPI / Roger-Viollet Lâ
 €™exposition qui vous invite Ã  mener lâ€™enquÃªte : de la spoliation Ã  la
  restitution[..]\nhttps://www.9lives-magazine.com/events/le-marche-de-lart-
 sous-loccupation/
URL:https://www.9lives-magazine.com/events/le-marche-de-lart-sous-loccupation/
END:VEVENT
END:VCALENDAR