BEGIN:VCALENDAR
VERSION:2.0
PRODID:-//eventon.com NONSGML v1.0//EN
CALSCALE:GREGORIAN
METHOD:PUBLISH
BEGIN:VEVENT
UID:69eb3c86a7525
DTSTAMP:20260424T094854Z
DTSTART:20260304T220000Z
DTEND:20260922T050000Z
LOCATION:Théâtre Chateauvallon-Liberté pl Liberté\,  83000 Toulon
SUMMARY:Samuel Buton – Collectif XY
DESCRIPTION:Depuis plus de quinze ans\,  le Collectif XY développe son pro
 pre langage acrobatique à travers la pratique des portés. Avec leur proje
 t Les Voyages et dans le cadre de Quartiers en Liberté\,  programme phare 
 de la scène nationale Châteauvallon-Liberté et de la Ville de Toulon\,  
 18 acrobates accompagné·es de leur[..]\nhttps://www.9lives-magazine.com/e
 vents/samuel-buton-collectif-xy-les-voyages/
URL:https://www.9lives-magazine.com/events/samuel-buton-collectif-xy-les-voyages/
END:VEVENT
END:VCALENDAR