BEGIN:VCALENDAR
VERSION:2.0
PRODID:-//eventon.com NONSGML v1.0//EN
CALSCALE:GREGORIAN
METHOD:PUBLISH
BEGIN:VEVENT
UID:69eb75d31c87d
DTSTAMP:20260424T135323Z
DTSTART:20260314T020000Z
DTEND:20260517T040000Z
LOCATION:Galerie Polka 12\,  rue Saint-Gilles 75003 Paris
SUMMARY:Sebastião Salgado
DESCRIPTION:En marge de la grande exposition Hommage organisée à l’Hôt
 el de Ville jusqu&rsquo;en mai 2026 autour de ses séries photographiques l
 es plus emblématiques\,  la galerie Polka présente une exposition rassemb
 lant des travaux inédits de Sebastião Salgado sur la ville de Paris\,  «
  sa ville d’adoption » \,  écrit la maire[..]\nhttps://www.9lives-magaz
 ine.com/events/sebastiao-salgado-paris/
URL:https://www.9lives-magazine.com/events/sebastiao-salgado-paris/
END:VEVENT
END:VCALENDAR