BEGIN:VCALENDAR
VERSION:2.0
PRODID:-//eventon.com NONSGML v1.0//EN
CALSCALE:GREGORIAN
METHOD:PUBLISH
BEGIN:VEVENT
UID:69eb5edcc38c0
DTSTAMP:20260424T121524Z
DTSTART:20260314T020000Z
DTEND:20260517T040000Z
LOCATION:Galerie Polka 12\,  rue Saint-Gilles 75003 Paris
SUMMARY:Nick Brandt
DESCRIPTION:La galerie Polka est heureuse de présenter pour la première f
 ois en France la tétralogie “The Day May Break” de Nick Brandt. Depuis
  des années\,  le photographe britannique alerte sur la destruction des é
 cosystèmes et le changement climatique — une tragédie mondiale dans laq
 uelle humains et animaux se trouvent tous[..]\nhttps://www.9lives-magazine.
 com/events/nick-brandt-the-day-may-break-chapters-one-to-four/
URL:https://www.9lives-magazine.com/events/nick-brandt-the-day-may-break-chapters-one-to-four/
END:VEVENT
END:VCALENDAR