BEGIN:VCALENDAR
VERSION:2.0
PRODID:-//eventon.com NONSGML v1.0//EN
CALSCALE:GREGORIAN
METHOD:PUBLISH
BEGIN:VEVENT
UID:69eb9f1a0e369
DTSTAMP:20260424T164930Z
DTSTART:20260314T020000Z
DTEND:20260517T040000Z
LOCATION:Galerie Polka 12\,  rue Saint-Gilles 75003 Paris
SUMMARY:Guillaume Lavrut
DESCRIPTION:Des carrosseries de voitures vintage aux cours de tennis de Ro
 land Garros\,  des spots de surf de la côte Atlantique aux escaliers du Tr
 ocadéro\,  Guillaume Lavrut est le roi de la ligne de fuite. Dans ses imag
 es-perspectives\,  pas de recherche de la proportion parfaite. La photo ne 
 mime pas le réel.[..]\nhttps://www.9lives-magazine.com/events/guillaume-la
 vrut-lignes-de-fuite/
URL:https://www.9lives-magazine.com/events/guillaume-lavrut-lignes-de-fuite/
END:VEVENT
END:VCALENDAR