BEGIN:VCALENDAR
VERSION:2.0
PRODID:-//eventon.com NONSGML v1.0//EN
CALSCALE:GREGORIAN
METHOD:PUBLISH
BEGIN:VEVENT
UID:69eaf96ab163f
DTSTAMP:20260424T050234Z
DTSTART:20260522T010000Z
DTEND:20260628T060000Z
LOCATION:GALERIE ART-Z 27 rue Keller\,  75011 Paris
SUMMARY:Françoise et Patrice Huguier
DESCRIPTION:Récemment décédé\,  Patrice Huguier formait\,  avec la cél
 èbre photographe Françoise Huguier\,  un couple de regard\,  de sensibili
 té et de création. Artiste complet\,  Patrice Huguier (né en 1938)\,  é
 tait architecte\,  peintre\,  dessinateur et sculpteur. Il donnait forme à
  l’invisible\,  et parcourait le monde\,  aux côtés de sa femme Franço
 ise\,  carnet en[..]\nhttps://www.9lives-magazine.com/events/francoise-et-p
 atrice-huguier-une-vie-de-dialogue-et-de-regard/
URL:https://www.9lives-magazine.com/events/francoise-et-patrice-huguier-une-vie-de-dialogue-et-de-regard/
END:VEVENT
END:VCALENDAR