BEGIN:VCALENDAR
VERSION:2.0
PRODID:-//eventon.com NONSGML v1.0//EN
CALSCALE:GREGORIAN
METHOD:PUBLISH
BEGIN:VEVENT
UID:69eb9ec13d35d
DTSTAMP:20260424T164801Z
DTSTART:20260508T210000Z
DTEND:20261109T050000Z
LOCATION:Château des Ducs de Bretagne ​Courtine Saint-Pierre 4 Place Marc Elder 44000 Nantes
SUMMARY:Omar Victor Diop
DESCRIPTION:Photo : Omar Victor Diop\,  Jean-Baptiste Belley\,  2014 | Oma
 r Victor Diop\,  Don Miguel De Castro\,  2014 © Omar Victor Diop\,  ADAGP 
 2025\,  Courtesy Galerie Magnin-A\,  Paris La nouvelle édition de la manif
 estation « Expression (s) décoloniale (s) »\,  prévue du 8 mai au 8 nov
 embre 2026\,  sera l’occasion d’ouvrir l’espace[..]\nhttps://www.9liv
 es-magazine.com/events/omar-victor-diop-expressions-decolonialess-4/
URL:https://www.9lives-magazine.com/events/omar-victor-diop-expressions-decolonialess-4/
END:VEVENT
END:VCALENDAR