BEGIN:VCALENDAR
VERSION:2.0
PRODID:-//eventon.com NONSGML v1.0//EN
CALSCALE:GREGORIAN
METHOD:PUBLISH
BEGIN:VEVENT
UID:69ea5855db1e5
DTSTAMP:20260423T173517Z
DTSTART:20260219T220000Z
DTEND:20260316T060000Z
LOCATION:La Fab. Place Jean-Michel Basquiat\,  75013 Paris
SUMMARY:Bernard Soria
DESCRIPTION:Dans l’imaginaire des navigateurs et des cartographes\,  Thul
 é demeura longtemps le point ultime du bout du monde. La description qu’
 en donne Pytheas au 2ème siècle avant notre ère ne permet pas d’en sit
 uer vraiment le lieu. C’est une île quelque part en Arctique. Ces espace
 s ne ressemblent à aucune nature[..]\nhttps://www.9lives-magazine.com/even
 ts/bernard-soria-quatre-vingtieme-parallele/
URL:https://www.9lives-magazine.com/events/bernard-soria-quatre-vingtieme-parallele/
END:VEVENT
END:VCALENDAR