BEGIN:VCALENDAR
VERSION:2.0
PRODID:-//eventon.com NONSGML v1.0//EN
CALSCALE:GREGORIAN
METHOD:PUBLISH
BEGIN:VEVENT
UID:69eb4d9c51253
DTSTAMP:20260424T110148Z
DTSTART:20260303T220000Z
DTEND:20260501T050000Z
LOCATION:Académie des beaux-arts - Institut de France 23\,  quai de Conti – 75006 Paris
SUMMARY:Prix Arts numériques Fondation Etrillard – Académie des beaux-arts
DESCRIPTION:La Fondation Etrillard\,  fondation familiale suisse\,  et l’
 Académie des beaux-arts lancent la deuxième édition du Prix Arts numéri
 ques. Ouvert aux artistes de toute nationalité résidant en Europe\,  sans
  limite d’âge\,  ce Prix annuel distingue une oeuvre numérique récente
  en résonance avec les disciplines représentées à l’Académie des bea
 ux-arts. Première édition[..]\nhttps://www.9lives-magazine.com/events/pri
 x-arts-numeriques-fondation-etrillard-academie-des-beaux-arts-2/
URL:https://www.9lives-magazine.com/events/prix-arts-numeriques-fondation-etrillard-academie-des-beaux-arts-2/
END:VEVENT
END:VCALENDAR