BEGIN:VCALENDAR
VERSION:2.0
PRODID:-//eventon.com NONSGML v1.0//EN
CALSCALE:GREGORIAN
METHOD:PUBLISH
BEGIN:VEVENT
UID:69ea6b71d585b
DTSTAMP:20260423T185649Z
DTSTART:20261015T210000Z
DTEND:20270201T050000Z
LOCATION:Le Centre du Patrimoine ArmÃ©nien 14 rue Louis Gallet\,  26000 Valence
SUMMARY:Yana Kononova
DESCRIPTION:Photo : Deperation of landcape\,  2023 Â© Yana Kononova â€œDans
  la montÃ©e Saint GÃ©rald\,  il faut penser aux jardins japonais. Il faut Ã
 ©craser les orties et sâ€™arrÃªter exactement Ã  lâ€™endroit oÃ¹ lâ€™on ape
 rÃ§oit le filet dâ€™eau\,  les pierres\,  les feuilles Ã©paisses et palmÃ©e
 s\,  la branche qui vient de la droite.[..]\nhttps://www.9lives-magazine.co
 m/events/yana-kononova-the-basilisk-2/
URL:https://www.9lives-magazine.com/events/yana-kononova-the-basilisk-2/
END:VEVENT
END:VCALENDAR