BEGIN:VCALENDAR
VERSION:2.0
PRODID:-//eventon.com NONSGML v1.0//EN
CALSCALE:GREGORIAN
METHOD:PUBLISH
BEGIN:VEVENT
UID:69eb75f91ef52
DTSTAMP:20260424T135401Z
DTSTART:20260322T010000Z
DTEND:20260510T060000Z
LOCATION:Galerie Robet Dantec 36 rue Voltaire 44000 Voltaire
SUMMARY:Arthur Lambert
DESCRIPTION:Sans titre\,  2025. Tempéra sur photographie\,  30 x 45 cm Des
 siner\,  selon Arthur Lambert\,  c&rsquo;est faire l&rsquo;expérience d’
 un monde\,  regarder une parcelle de cet univers commun à tous et le trave
 rser\,  l’éprouver\,  en soulignant ce qui nous aurait échappé pour le
  révéler. Exigeant une grande concentration dans leur réalisation\,  ses
 [..]\nhttps://www.9lives-magazine.com/events/arthur-lambert-sanctuaires/
URL:https://www.9lives-magazine.com/events/arthur-lambert-sanctuaires/
END:VEVENT
END:VCALENDAR