BEGIN:VCALENDAR
VERSION:2.0
PRODID:-//eventon.com NONSGML v1.0//EN
CALSCALE:GREGORIAN
METHOD:PUBLISH
BEGIN:VEVENT
UID:69ebc6853f7f5
DTSTAMP:20260424T193741Z
DTSTART:20260606T210000Z
DTEND:20261005T050000Z
LOCATION:Musée d&#039;Art moderne de Fontevraud Rue Saint-Jean de l'Habit\,  49590 Fontevraud-l'Abbaye
SUMMARY:Chambre noire\,  toile blanche
DESCRIPTION:Photo : Maurice Guibert\,  Lautrec\,  photomontage © Musée To
 ulouse-Lautrec\,  Albi Chambre noire\,  toile blanche ; la photographie fac
 e à la peinture s’inscrit dans la continuité du projet muséographique 
 qui met l’accent sur les dialogues entre différentes formes d’art. La 
 photographie\,  dès son origine\,  s’est nourrie de la peinture\,  tant 
 sur[..]\nhttps://www.9lives-magazine.com/events/chambre-noire-toile-blanche
 -la-photographie-face-a-la-peinture/
URL:https://www.9lives-magazine.com/events/chambre-noire-toile-blanche-la-photographie-face-a-la-peinture/
END:VEVENT
END:VCALENDAR