BEGIN:VCALENDAR
VERSION:2.0
PRODID:-//eventon.com NONSGML v1.0//EN
CALSCALE:GREGORIAN
METHOD:PUBLISH
BEGIN:VEVENT
UID:69ec1bbad846f
DTSTAMP:20260425T014114Z
DTSTART:20260307
DTEND:20260308
LOCATION:Médiathèque Pablo Neruda 24 Rue Béranger\,  92240 Malakoff
SUMMARY:Sandra Calligaro
DESCRIPTION:Photo : © Sandra Calligaro / Item Depuis quatre ans\,  les tal
 ibans règnent de nouveau en Afghanistan. Après vingt années de démocrat
 ie et d’ouverture relative au monde\,  c’est un véritable retour en ar
 rière pour les citadins. Les femmes sont claquemurées\,  privées d’ens
 eignement secondaire et exclues de la majorité des lieux[..]\nhttps://www.
 9lives-magazine.com/events/sandra-calligaro-afghanistan-a-lombre-des-drapea
 ux-blanc-2/
URL:https://www.9lives-magazine.com/events/sandra-calligaro-afghanistan-a-lombre-des-drapeaux-blanc-2/
END:VEVENT
END:VCALENDAR