BEGIN:VCALENDAR
VERSION:2.0
PRODID:-//eventon.com NONSGML v1.0//EN
CALSCALE:GREGORIAN
METHOD:PUBLISH
BEGIN:VEVENT
UID:69eb9ecbc8cb3
DTSTAMP:20260424T164811Z
DTSTART:20260331
DTEND:20260401
LOCATION:Galerie V12 12 rue Valdemaine 49100 Angers
SUMMARY:Olivier Pasquiers
DESCRIPTION:Photo : Le Thoureil\,  Bords de Loire\,  2026 © Olivier Pasqui
 ers Exposition de photos-griffures réalisées à l’aide d’une camera o
 bscura numérique Réinventer la photographie Des paysages bien réels qui 
 seraient comme dessinés et pourtant il s’agit bien de photographies sans
  autres artifices que le développement classique d’un fichier numérique
  en[..]\nhttps://www.9lives-magazine.com/events/olivier-pasquiers-paysages-
 hors-du-temps-2024-2026/
URL:https://www.9lives-magazine.com/events/olivier-pasquiers-paysages-hors-du-temps-2024-2026/
END:VEVENT
END:VCALENDAR