BEGIN:VCALENDAR
VERSION:2.0
PRODID:-//eventon.com NONSGML v1.0//EN
CALSCALE:GREGORIAN
METHOD:PUBLISH
BEGIN:VEVENT
UID:69ec04c2bc0b8
DTSTAMP:20260425T000314Z
DTSTART:20260320T220000Z
DTEND:20260521T060000Z
LOCATION:Galerie Ira Leonis 20 Place de la RÃ©publique - 13200 Arles
SUMMARY:Shirin Hedarizadhe
DESCRIPTION:Faire silence\,  le plus dÃ©chirant des cris Il existe tant dâ€
 ™occasions de hurler sa joie\,  son plaisir\,  sa douleur\,  sa colÃ¨reâ€¦ 
 hurler pour oser exprimer le fond de soi\,  et aussi pour mieux se faire en
 tendre â€¦ mais il existe Ã©galement de multiples moments oÃ¹ faire silence
  est le plus[..]\nhttps://www.9lives-magazine.com/events/shirin-hedarizadhe
 -faire-silence/
URL:https://www.9lives-magazine.com/events/shirin-hedarizadhe-faire-silence/
END:VEVENT
END:VCALENDAR