BEGIN:VCALENDAR
VERSION:2.0
PRODID:-//eventon.com NONSGML v1.0//EN
CALSCALE:GREGORIAN
METHOD:PUBLISH
BEGIN:VEVENT
UID:69eb9eb8cda0b
DTSTAMP:20260424T164752Z
DTSTART:20260314T220000Z
DTEND:20260504T050000Z
LOCATION:Friche la Belle de Mai 41 Rue Jobin 13003 Marseille
SUMMARY:En route : views from Atlanta and Marseille
DESCRIPTION:Photo : © Yohanne Lamoulère/Tendance Floue Commissariat : Mar
 ia L. Kelly Comment la photographie peut-elle nous aider à voir et à comp
 rendre un lieu qui nous est inconnu ? Cette exposition rassemble les photog
 raphies de quatre artistes qui ont effectué des résidences dans des ville
 s loin de chez elleux :[..]\nhttps://www.9lives-magazine.com/events/en-rout
 e-views-from-atlanta-and-marseille/
URL:https://www.9lives-magazine.com/events/en-route-views-from-atlanta-and-marseille/
END:VEVENT
END:VCALENDAR