BEGIN:VCALENDAR
VERSION:2.0
PRODID:-//eventon.com NONSGML v1.0//EN
CALSCALE:GREGORIAN
METHOD:PUBLISH
BEGIN:VEVENT
UID:69ebb2d47ba64
DTSTAMP:20260424T181340Z
DTSTART:20260419T140000Z
DTEND:20260614T180000Z
LOCATION:Galerie â€“ Librairie FOCALE Place du ChÃ¢teau 4 â€“ 1260 Nyon
SUMMARY:Laurence Kubski
DESCRIPTION:MonitorÃ©e\,  maÃ®trisÃ©e\,  Ã©piÃ©e\,  comptabilisÃ©e\,  chass
 Ã©e ou protÃ©gÃ©e\,  la faune est sous contrainte humaine. Pendant une annÃ
 ©e\,  Laurence Kubski a documentÃ© les interactions qui rythment la cohabit
 ation des humains et des animaux sauvages dans lâ€™espace gÃ©ographique et 
 culturel bien dÃ©fini du canton de Fribourg. Au travers des saisons\,  la p
 hotographe a[..]\nhttps://www.9lives-magazine.com/events/laurence-kubski-sa
 uvages/
URL:https://www.9lives-magazine.com/events/laurence-kubski-sauvages/
END:VEVENT
END:VCALENDAR