BEGIN:VCALENDAR
VERSION:2.0
PRODID:-//eventon.com NONSGML v1.0//EN
CALSCALE:GREGORIAN
METHOD:PUBLISH
BEGIN:VEVENT
UID:69ebc651209c1
DTSTAMP:20260424T193649Z
DTSTART:20260312T110000Z
DTEND:20260523T190000Z
LOCATION:La Galerie Rouge 3 Rue Du Pont Louis-Philippe 75004 Paris
SUMMARY:Danny Lyon
DESCRIPTION:Photo : © Matthew Avignone / Courtesy La Galerie Rouge La Gale
 rie Rouge vous invite à découvrir l’oeuvre de Danny Lyon\,  un des plus
  importants photographes étasuniens de la seconde moitié du XXe siècle. 
 Grand admirateur de Walker Evans et Robert Frank\,  il s’en détache pour
 tant en adoptant un style[..]\nhttps://www.9lives-magazine.com/events/danny
 -lyon-lamerique-en-lutte/
URL:https://www.9lives-magazine.com/events/danny-lyon-lamerique-en-lutte/
END:VEVENT
END:VCALENDAR