BEGIN:VCALENDAR
VERSION:2.0
PRODID:-//eventon.com NONSGML v1.0//EN
CALSCALE:GREGORIAN
METHOD:PUBLISH
BEGIN:VEVENT
UID:69ebb2981ffe5
DTSTAMP:20260424T181240Z
DTSTART:20260411T093000Z
DTEND:20270103T180000Z
LOCATION:MusÃ©e de Picardie 2 rue Puvis de Chavannes 80000 Amiens
SUMMARY:FLORE
DESCRIPTION:Alors quâ€™au sous-sol les collections dâ€™archÃ©ologie entamen
 t leur mue\,  les anciennes salles consacrÃ©es Ã  lâ€™Ã‰gypte accueillent p
 our la premiÃ¨re fois lâ€™exposition dâ€™une artiste contemporaine. Le MusÃ
 ©e de Picardie invite FLORE qui propose une traversÃ©e dans son Å“uvre Ã©gy
 ptienne\,  mise en dialogue avec des objets de la collection. Artiste photo
 graphe franco-espagnole[..]\nhttps://www.9lives-magazine.com/events/flore-e
 gypte-eternelle/
URL:https://www.9lives-magazine.com/events/flore-egypte-eternelle/
END:VEVENT
END:VCALENDAR