BEGIN:VCALENDAR
VERSION:2.0
PRODID:-//eventon.com NONSGML v1.0//EN
CALSCALE:GREGORIAN
METHOD:PUBLISH
BEGIN:VEVENT
UID:69ec187ecc884
DTSTAMP:20260425T012726Z
DTSTART:20260418
DTEND:20260419
LOCATION:Maison de George Sand 2 place Sainte-Anne\,  36400 Nohant-Vic
SUMMARY:FLORE
DESCRIPTION:En 2026\,  le Centre des monuments nationaux sâ€™inscrit dans l
 a cÃ©lÃ©bration du Bicentenaire de la Photographie et participe Ã  la commÃ
 ©moration du 150e anniversaire de la disparition de lâ€™Ã©crivaine au domai
 ne de George Sand Ã  Nohant. Ã€ cette occasion\,  lâ€™artiste photographe F
 LORE est invitÃ©e Ã  investir la maison et le[..]\nhttps://www.9lives-magaz
 ine.com/events/flore-je-suis-dans-des-mondes-etranges/
URL:https://www.9lives-magazine.com/events/flore-je-suis-dans-des-mondes-etranges/
END:VEVENT
END:VCALENDAR