BEGIN:VCALENDAR
VERSION:2.0
PRODID:-//eventon.com NONSGML v1.0//EN
CALSCALE:GREGORIAN
METHOD:PUBLISH
BEGIN:VEVENT
UID:69ebc6598cdf1
DTSTAMP:20260424T193657Z
DTSTART:20260328T100000Z
DTEND:20260607T180000Z
LOCATION:Lumière d&#039;Encre 47 rue de la République 66400 Céret
SUMMARY:Sébastien Normand
DESCRIPTION:Cette exposition est l’aboutissement d’une traversée au lo
 ng cours des Pyrénées\,  menée sur plusieurs années. De nuit comme de j
 our\,  Sébastien Normand arpente les reliefs pour saisir ce qui échappe\,
   ce qui tremble\,  ce qui demeure en limite de perception. L’exposition 
 réunit ces fragments de voyage : images argentiques\,  lumières[..]\nhttp
 s://www.9lives-magazine.com/events/sebastien-normand-verite-en-deca-et-au-d
 ela/
URL:https://www.9lives-magazine.com/events/sebastien-normand-verite-en-deca-et-au-dela/
END:VEVENT
END:VCALENDAR