BEGIN:VCALENDAR
VERSION:2.0
PRODID:-//eventon.com NONSGML v1.0//EN
CALSCALE:GREGORIAN
METHOD:PUBLISH
BEGIN:VEVENT
UID:69ebde5a935cd
DTSTAMP:20260424T211922Z
DTSTART:20260315T013000Z
DTEND:20260510T060000Z
LOCATION:Galerie Françoise Besson 10 rue de Crimée 69001 Lyon
SUMMARY:Sylvie Benoit
DESCRIPTION:DISCORDED LOVE explore l’espace latent entre l’amour et le 
 désamour à travers des photographies transfigurées\,  des vidéos perfor
 matives et des figures où l’amour demeure. Discorded Love interroge ains
 i la notion même du lien : que reste-t-il lorsque l’harmonie disparaît 
 ? En refusant toute narration explicative\,  Sylvie Benoit ouvre un espace[
 ..]\nhttps://www.9lives-magazine.com/events/sylvie-benoit-discorded-love/
URL:https://www.9lives-magazine.com/events/sylvie-benoit-discorded-love/
END:VEVENT
END:VCALENDAR