BEGIN:VCALENDAR
VERSION:2.0
PRODID:-//eventon.com NONSGML v1.0//EN
CALSCALE:GREGORIAN
METHOD:PUBLISH
BEGIN:VEVENT
UID:69ec1bc4abfaa
DTSTAMP:20260425T014124Z
DTSTART:20260418T110000Z
DTEND:20260517T190000Z
LOCATION:4\,  rue de Grille\,  Arles 4\,  rue de Grille 13200 Arles
SUMMARY:Sigurdur Arni Sigurdson
DESCRIPTION:Photo : Scènes et types d&rsquo;Egypte\,  technique mixte\,  
 crayon et encre Manon Pieyre de Mandiargues\,  en collaboration avec la gal
 erie Aline Vidal\,  a le plaisir d’accueillir Sigurður Árni Sigurðsson
 : Corrections dans l&rsquo;espace Grille à Arles\,  à l’occasion de la 
 quatrième édition du Festival du dessin. L’exposition rassemble des des
 sins importants[..]\nhttps://www.9lives-magazine.com/events/sigurdur-arni-s
 igurdson-corrections/
URL:https://www.9lives-magazine.com/events/sigurdur-arni-sigurdson-corrections/
END:VEVENT
END:VCALENDAR